BEGIN:VCALENDAR
VERSION:2.0
PRODID:-//Carers Together - ECPv6.15.11//NONSGML v1.0//EN
CALSCALE:GREGORIAN
METHOD:PUBLISH
X-WR-CALNAME:Carers Together
X-ORIGINAL-URL:https://carerstogether.co.uk
X-WR-CALDESC:Events for Carers Together
REFRESH-INTERVAL;VALUE=DURATION:PT1H
X-Robots-Tag:noindex
X-PUBLISHED-TTL:PT1H
BEGIN:VTIMEZONE
TZID:Europe/London
BEGIN:DAYLIGHT
TZOFFSETFROM:+0000
TZOFFSETTO:+0100
TZNAME:BST
DTSTART:20250330T010000
END:DAYLIGHT
BEGIN:STANDARD
TZOFFSETFROM:+0100
TZOFFSETTO:+0000
TZNAME:GMT
DTSTART:20251026T010000
END:STANDARD
BEGIN:DAYLIGHT
TZOFFSETFROM:+0000
TZOFFSETTO:+0100
TZNAME:BST
DTSTART:20260329T010000
END:DAYLIGHT
BEGIN:STANDARD
TZOFFSETFROM:+0100
TZOFFSETTO:+0000
TZNAME:GMT
DTSTART:20261025T010000
END:STANDARD
BEGIN:DAYLIGHT
TZOFFSETFROM:+0000
TZOFFSETTO:+0100
TZNAME:BST
DTSTART:20270328T010000
END:DAYLIGHT
BEGIN:STANDARD
TZOFFSETFROM:+0100
TZOFFSETTO:+0000
TZNAME:GMT
DTSTART:20271031T010000
END:STANDARD
END:VTIMEZONE
BEGIN:VEVENT
DTSTART;TZID=Europe/London:20260609T133000
DTEND;TZID=Europe/London:20260609T150000
DTSTAMP:20260423T000003
CREATED:20260422T110029Z
LAST-MODIFIED:20260416T101325Z
UID:10001151-1781011800-1781017200@carerstogether.co.uk
SUMMARY:Independent Living Centre Visit
DESCRIPTION:Have you ever wondered if there are adaptations or gadgets which could increase the independence or reduce the risk of falls for the person you care for or yourself? Not sure what’s available\, how it works or what it would look like? Join us on a visit to the Independent Living Centre\, set up to look like a home;  filled with various assistive technology\, gadgets\, sensory and communication tools. There will be occupational therapists on hand to demonstrate\, let you try and give advice along with staff from telecare services to show you their range of support. Cuppa and cakes provided.
URL:https://carerstogether.co.uk/ct-events/independent-living-centre-visit/
LOCATION:The Meadowgate Centre\, Meadowgate\, Eston under Nab\, Middlesbrough\, TS6 9NN\, United Kingdom
CATEGORIES:Health and Wellbeing
ATTACH;FMTTYPE=image/png:https://carerstogether.co.uk/wp-content/uploads/2026/04/carers-together-newsletter-independent-living-centre-visit.png
ORGANIZER;CN="Carers Together":MAILTO:info@carerstogether-rc.org.uk
END:VEVENT
END:VCALENDAR