BEGIN:VCALENDAR
VERSION:2.0
PRODID:-//Carers Together - ECPv6.15.11//NONSGML v1.0//EN
CALSCALE:GREGORIAN
METHOD:PUBLISH
X-WR-CALNAME:Carers Together
X-ORIGINAL-URL:https://carerstogether.co.uk
X-WR-CALDESC:Events for Carers Together
REFRESH-INTERVAL;VALUE=DURATION:PT1H
X-Robots-Tag:noindex
X-PUBLISHED-TTL:PT1H
BEGIN:VTIMEZONE
TZID:Europe/London
BEGIN:DAYLIGHT
TZOFFSETFROM:+0000
TZOFFSETTO:+0100
TZNAME:BST
DTSTART:20250330T010000
END:DAYLIGHT
BEGIN:STANDARD
TZOFFSETFROM:+0100
TZOFFSETTO:+0000
TZNAME:GMT
DTSTART:20251026T010000
END:STANDARD
BEGIN:DAYLIGHT
TZOFFSETFROM:+0000
TZOFFSETTO:+0100
TZNAME:BST
DTSTART:20260329T010000
END:DAYLIGHT
BEGIN:STANDARD
TZOFFSETFROM:+0100
TZOFFSETTO:+0000
TZNAME:GMT
DTSTART:20261025T010000
END:STANDARD
BEGIN:DAYLIGHT
TZOFFSETFROM:+0000
TZOFFSETTO:+0100
TZNAME:BST
DTSTART:20270328T010000
END:DAYLIGHT
BEGIN:STANDARD
TZOFFSETFROM:+0100
TZOFFSETTO:+0000
TZNAME:GMT
DTSTART:20271031T010000
END:STANDARD
END:VTIMEZONE
BEGIN:VEVENT
DTSTART;TZID=Europe/London:20260320T140000
DTEND;TZID=Europe/London:20260320T153000
DTSTAMP:20260420T095256
CREATED:20260218T120020Z
LAST-MODIFIED:20260317T114927Z
UID:10001100-1774015200-1774020600@carerstogether.co.uk
SUMMARY:Singalong
DESCRIPTION:Please note the change of venue – this is a one off and will return to The Cricket Club for the next Singalong. \nWith a wide variety of eras and styles of music there’s something for everyone to sing along to. Refreshments are available at the bar. \n 
URL:https://carerstogether.co.uk/ct-events/singalong-18/
LOCATION:Saltburn House\, Saltburn House\, 24 Marine Parade\, Saltburn-by-the-Sea\, Cleveland\, TS12 1EH\, United Kingdom
CATEGORIES:Entertainment,Regular Events and Socials
ATTACH;FMTTYPE=image/png:https://carerstogether.co.uk/wp-content/uploads/2025/10/carers-together-events-singalong.png
ORGANIZER;CN="Carers Together":MAILTO:info@carerstogether-rc.org.uk
END:VEVENT
BEGIN:VEVENT
DTSTART;TZID=Europe/London:20260310T103000
DTEND;TZID=Europe/London:20260310T123000
DTSTAMP:20260420T095256
CREATED:20260218T120050Z
LAST-MODIFIED:20260217T141527Z
UID:10001093-1773138600-1773145800@carerstogether.co.uk
SUMMARY:Saltburn Walk
DESCRIPTION:Join us for a walk along Saltburn beach/bottom prom through the valley gardens and returning along the top prom or via Rifts Wood depending on the conditions and ability of the group. Some steep inclines and declines. Approx. 3-4km/ 1.8-2.5miles.
URL:https://carerstogether.co.uk/ct-events/saltburn-walk-3/
LOCATION:Saltburn House\, Saltburn House\, 24 Marine Parade\, Saltburn-by-the-Sea\, Cleveland\, TS12 1EH\, United Kingdom
ATTACH;FMTTYPE=image/png:https://carerstogether.co.uk/wp-content/uploads/2025/10/carers-together-events-saltburn-house.png
ORGANIZER;CN="Carers Together":MAILTO:info@carerstogether-rc.org.uk
END:VEVENT
END:VCALENDAR