BEGIN:VCALENDAR
VERSION:2.0
PRODID:-//Carers Together - ECPv6.15.11//NONSGML v1.0//EN
CALSCALE:GREGORIAN
METHOD:PUBLISH
X-ORIGINAL-URL:https://carerstogether.co.uk
X-WR-CALDESC:Events for Carers Together
REFRESH-INTERVAL;VALUE=DURATION:PT1H
X-Robots-Tag:noindex
X-PUBLISHED-TTL:PT1H
BEGIN:VTIMEZONE
TZID:Europe/London
BEGIN:DAYLIGHT
TZOFFSETFROM:+0000
TZOFFSETTO:+0100
TZNAME:BST
DTSTART:20250330T010000
END:DAYLIGHT
BEGIN:STANDARD
TZOFFSETFROM:+0100
TZOFFSETTO:+0000
TZNAME:GMT
DTSTART:20251026T010000
END:STANDARD
BEGIN:DAYLIGHT
TZOFFSETFROM:+0000
TZOFFSETTO:+0100
TZNAME:BST
DTSTART:20260329T010000
END:DAYLIGHT
BEGIN:STANDARD
TZOFFSETFROM:+0100
TZOFFSETTO:+0000
TZNAME:GMT
DTSTART:20261025T010000
END:STANDARD
BEGIN:DAYLIGHT
TZOFFSETFROM:+0000
TZOFFSETTO:+0100
TZNAME:BST
DTSTART:20270328T010000
END:DAYLIGHT
BEGIN:STANDARD
TZOFFSETFROM:+0100
TZOFFSETTO:+0000
TZNAME:GMT
DTSTART:20271031T010000
END:STANDARD
END:VTIMEZONE
BEGIN:VEVENT
DTSTART;TZID=Europe/London:20260610T093000
DTEND;TZID=Europe/London:20260610T170000
DTSTAMP:20260423T000040
CREATED:20260422T110018Z
LAST-MODIFIED:20260416T105756Z
UID:10001152-1781083800-1781110800@carerstogether.co.uk
SUMMARY:Carers Week Trip to Beamish Museum
DESCRIPTION:Take a journey back in time at Beamish Museum with interactive exhibits\, buildings\, and towns from 1900’s-1950’s. This is a large open-air museum with some uneven surfaces and steep hills; there are buses and trams that run a circular route around the museum.  Wheelchair and mobility scooter hire is available (additional cost). If you require any accessibility support including the wheelchair accessible bus (not for general public) please let us know upon booking. There are various cafes/pubs/fish and chip shop on site but be aware they can get busy – you are welcome to bring a picnic. Pick Up Majuba Car Park Redcar 9.30am\, BBC Tees Building Middlesbrough 10am\, leaving Beamish Museum approx. 3.30pm. Cost £5 per person payable on the coach.
URL:https://carerstogether.co.uk/ct-events/carers-week-trip-to-beamish-museum/
LOCATION:Majuba Car Park Redcar/BBC Tees Building Middlesbrough
CATEGORIES:History,Special Event,Trips
ATTACH;FMTTYPE=image/png:https://carerstogether.co.uk/wp-content/uploads/2026/04/carers-together-newsletter-beamish.png
ORGANIZER;CN="Carers Together":MAILTO:info@carerstogether-rc.org.uk
END:VEVENT
END:VCALENDAR