BEGIN:VCALENDAR
VERSION:2.0
PRODID:-//Carers Together - ECPv6.15.11//NONSGML v1.0//EN
CALSCALE:GREGORIAN
METHOD:PUBLISH
X-ORIGINAL-URL:https://carerstogether.co.uk
X-WR-CALDESC:Events for Carers Together
REFRESH-INTERVAL;VALUE=DURATION:PT1H
X-Robots-Tag:noindex
X-PUBLISHED-TTL:PT1H
BEGIN:VTIMEZONE
TZID:Europe/London
BEGIN:DAYLIGHT
TZOFFSETFROM:+0000
TZOFFSETTO:+0100
TZNAME:BST
DTSTART:20250330T010000
END:DAYLIGHT
BEGIN:STANDARD
TZOFFSETFROM:+0100
TZOFFSETTO:+0000
TZNAME:GMT
DTSTART:20251026T010000
END:STANDARD
BEGIN:DAYLIGHT
TZOFFSETFROM:+0000
TZOFFSETTO:+0100
TZNAME:BST
DTSTART:20260329T010000
END:DAYLIGHT
BEGIN:STANDARD
TZOFFSETFROM:+0100
TZOFFSETTO:+0000
TZNAME:GMT
DTSTART:20261025T010000
END:STANDARD
BEGIN:DAYLIGHT
TZOFFSETFROM:+0000
TZOFFSETTO:+0100
TZNAME:BST
DTSTART:20270328T010000
END:DAYLIGHT
BEGIN:STANDARD
TZOFFSETFROM:+0100
TZOFFSETTO:+0000
TZNAME:GMT
DTSTART:20271031T010000
END:STANDARD
END:VTIMEZONE
BEGIN:VEVENT
DTSTART;TZID=Europe/London:20260630T103000
DTEND;TZID=Europe/London:20260630T120000
DTSTAMP:20260423T000133
CREATED:20260422T110048Z
LAST-MODIFIED:20260416T103537Z
UID:10001161-1782815400-1782820800@carerstogether.co.uk
SUMMARY:Great Ayton Walk and Ice Cream
DESCRIPTION:Meet at The Green opposite The Royal Oak Pub for a gentle 3km stroll around Great Ayton and enjoy a Suggitt’s Ice Cream on the return. Free parking available close to the meeting point.
URL:https://carerstogether.co.uk/ct-events/great-ayton-walk-and-ice-cream/
LOCATION:Great Ayton Green\, Great Ayton Green\, Great Ayton\, Cleveland\, TS9 6AA\, United Kingdom
CATEGORIES:Walks
ATTACH;FMTTYPE=image/png:https://carerstogether.co.uk/wp-content/uploads/2026/04/carers-together-newsletter-great-ayton-walk-and-ice-cream.png
ORGANIZER;CN="Carers Together":MAILTO:info@carerstogether-rc.org.uk
END:VEVENT
END:VCALENDAR