BEGIN:VCALENDAR
VERSION:2.0
PRODID:-//Carers Together - ECPv6.15.11//NONSGML v1.0//EN
CALSCALE:GREGORIAN
METHOD:PUBLISH
X-WR-CALNAME:Carers Together
X-ORIGINAL-URL:https://carerstogether.co.uk
X-WR-CALDESC:Events for Carers Together
REFRESH-INTERVAL;VALUE=DURATION:PT1H
X-Robots-Tag:noindex
X-PUBLISHED-TTL:PT1H
BEGIN:VTIMEZONE
TZID:Europe/London
BEGIN:DAYLIGHT
TZOFFSETFROM:+0000
TZOFFSETTO:+0100
TZNAME:BST
DTSTART:20250330T010000
END:DAYLIGHT
BEGIN:STANDARD
TZOFFSETFROM:+0100
TZOFFSETTO:+0000
TZNAME:GMT
DTSTART:20251026T010000
END:STANDARD
BEGIN:DAYLIGHT
TZOFFSETFROM:+0000
TZOFFSETTO:+0100
TZNAME:BST
DTSTART:20260329T010000
END:DAYLIGHT
BEGIN:STANDARD
TZOFFSETFROM:+0100
TZOFFSETTO:+0000
TZNAME:GMT
DTSTART:20261025T010000
END:STANDARD
BEGIN:DAYLIGHT
TZOFFSETFROM:+0000
TZOFFSETTO:+0100
TZNAME:BST
DTSTART:20270328T010000
END:DAYLIGHT
BEGIN:STANDARD
TZOFFSETFROM:+0100
TZOFFSETTO:+0000
TZNAME:GMT
DTSTART:20271031T010000
END:STANDARD
END:VTIMEZONE
BEGIN:VEVENT
DTSTART;TZID=Europe/London:20260324T103000
DTEND;TZID=Europe/London:20260324T120000
DTSTAMP:20260422T095158
CREATED:20260218T120014Z
LAST-MODIFIED:20260217T143058Z
UID:10001101-1774348200-1774353600@carerstogether.co.uk
SUMMARY:Errington Woods Walk
DESCRIPTION:Meet us in the car park for a circular walk around Errington Woods. A steep incline and a steep decline with option to extend the walk right to the top for wonderful views dependent on conditions and abilities of the group. Approx. 3-5km/ 2-3 miles.
URL:https://carerstogether.co.uk/ct-events/errington-woods-walk/
LOCATION:Errington Woods\, Errington Woods Car Park\, New Marske\, Cleveland\, TS11 8HW\, United Kingdom
CATEGORIES:Walks
ATTACH;FMTTYPE=image/jpeg:https://carerstogether.co.uk/wp-content/uploads/2024/06/Carers-Together-Events-Errington-Walk.jpg
ORGANIZER;CN="Carers Together":MAILTO:info@carerstogether-rc.org.uk
END:VEVENT
END:VCALENDAR