BEGIN:VCALENDAR
VERSION:2.0
PRODID:-//Carers Together - ECPv6.15.11//NONSGML v1.0//EN
CALSCALE:GREGORIAN
METHOD:PUBLISH
X-ORIGINAL-URL:https://carerstogether.co.uk
X-WR-CALDESC:Events for Carers Together
REFRESH-INTERVAL;VALUE=DURATION:PT1H
X-Robots-Tag:noindex
X-PUBLISHED-TTL:PT1H
BEGIN:VTIMEZONE
TZID:Europe/London
BEGIN:DAYLIGHT
TZOFFSETFROM:+0000
TZOFFSETTO:+0100
TZNAME:BST
DTSTART:20250330T010000
END:DAYLIGHT
BEGIN:STANDARD
TZOFFSETFROM:+0100
TZOFFSETTO:+0000
TZNAME:GMT
DTSTART:20251026T010000
END:STANDARD
BEGIN:DAYLIGHT
TZOFFSETFROM:+0000
TZOFFSETTO:+0100
TZNAME:BST
DTSTART:20260329T010000
END:DAYLIGHT
BEGIN:STANDARD
TZOFFSETFROM:+0100
TZOFFSETTO:+0000
TZNAME:GMT
DTSTART:20261025T010000
END:STANDARD
BEGIN:DAYLIGHT
TZOFFSETFROM:+0000
TZOFFSETTO:+0100
TZNAME:BST
DTSTART:20270328T010000
END:DAYLIGHT
BEGIN:STANDARD
TZOFFSETFROM:+0100
TZOFFSETTO:+0000
TZNAME:GMT
DTSTART:20271031T010000
END:STANDARD
END:VTIMEZONE
BEGIN:VEVENT
DTSTART;TZID=Europe/London:20260414T133000
DTEND;TZID=Europe/London:20260414T150000
DTSTAMP:20260422T095155
CREATED:20260218T120025Z
LAST-MODIFIED:20260217T210125Z
UID:10001113-1776173400-1776178800@carerstogether.co.uk
SUMMARY:Grief and Loss Group
DESCRIPTION:Fortnightly for 6 sessions\, suitable for carers experiencing any kind of grief and loss\, we will discuss the different stages of grief as well as opportunities to share your experiences and ways of coping. \nPlease speak to a member of our staff to book and find out more.
URL:https://carerstogether.co.uk/ct-events/grief-and-loss-group-9/
LOCATION:25K Community Centre\, 25K Community Centre\, Ayton Drive\, Redcar\, Cleveland\, TS10 4LR\, United Kingdom
CATEGORIES:Groups,Wellbeing
ATTACH;FMTTYPE=image/png:https://carerstogether.co.uk/wp-content/uploads/2025/10/carers-together-events-grief-and-loss.png
ORGANIZER;CN="Carers Together":MAILTO:info@carerstogether-rc.org.uk
GEO:54.6013;-1.0747
X-APPLE-STRUCTURED-LOCATION;VALUE=URI;X-ADDRESS=25K Community Centre 25K Community Centre Ayton Drive Redcar Cleveland TS10 4LR United Kingdom;X-APPLE-RADIUS=500;X-TITLE=25K Community Centre\, Ayton Drive:geo:-1.0747,54.6013
END:VEVENT
BEGIN:VEVENT
DTSTART;TZID=Europe/London:20260331T133000
DTEND;TZID=Europe/London:20260331T150000
DTSTAMP:20260422T095155
CREATED:20260218T120057Z
LAST-MODIFIED:20260217T143931Z
UID:10001108-1774963800-1774969200@carerstogether.co.uk
SUMMARY:Grief and Loss Group
DESCRIPTION:Fortnightly for 6 sessions\, suitable for carers experiencing any kind of grief and loss\, we will discuss the different stages of grief as well as opportunities to share your experiences and ways of coping. \nPlease speak to a member of our staff to book and find out more.
URL:https://carerstogether.co.uk/ct-events/grief-and-loss-group-11/
LOCATION:25K Community Centre\, 25K Community Centre\, Ayton Drive\, Redcar\, Cleveland\, TS10 4LR\, United Kingdom
CATEGORIES:Groups,Wellbeing
ATTACH;FMTTYPE=image/png:https://carerstogether.co.uk/wp-content/uploads/2025/10/carers-together-events-grief-and-loss.png
ORGANIZER;CN="Carers Together":MAILTO:info@carerstogether-rc.org.uk
GEO:54.6013;-1.0747
X-APPLE-STRUCTURED-LOCATION;VALUE=URI;X-ADDRESS=25K Community Centre 25K Community Centre Ayton Drive Redcar Cleveland TS10 4LR United Kingdom;X-APPLE-RADIUS=500;X-TITLE=25K Community Centre\, Ayton Drive:geo:-1.0747,54.6013
END:VEVENT
BEGIN:VEVENT
DTSTART;TZID=Europe/London:20260317T133000
DTEND;TZID=Europe/London:20260317T150000
DTSTAMP:20260422T095155
CREATED:20260218T120023Z
LAST-MODIFIED:20260217T142543Z
UID:10001097-1773754200-1773759600@carerstogether.co.uk
SUMMARY:Grief and Loss Group
DESCRIPTION:Fortnightly for 6 sessions\, suitable for carers experiencing any kind of grief and loss\, we will discuss the different stages of grief as well as opportunities to share your experiences and ways of coping. \nPlease speak to a member of our staff to book and find out more.
URL:https://carerstogether.co.uk/ct-events/grief-and-loss-group-10/
LOCATION:25K Community Centre\, 25K Community Centre\, Ayton Drive\, Redcar\, Cleveland\, TS10 4LR\, United Kingdom
CATEGORIES:Groups,Wellbeing
ATTACH;FMTTYPE=image/png:https://carerstogether.co.uk/wp-content/uploads/2025/10/carers-together-events-grief-and-loss.png
ORGANIZER;CN="Carers Together":MAILTO:info@carerstogether-rc.org.uk
GEO:54.6013;-1.0747
X-APPLE-STRUCTURED-LOCATION;VALUE=URI;X-ADDRESS=25K Community Centre 25K Community Centre Ayton Drive Redcar Cleveland TS10 4LR United Kingdom;X-APPLE-RADIUS=500;X-TITLE=25K Community Centre\, Ayton Drive:geo:-1.0747,54.6013
END:VEVENT
END:VCALENDAR