BEGIN:VCALENDAR
VERSION:2.0
PRODID:-//Eventin//Event Calendar//EN
CALSCALE:GREGORIAN
METHOD:PUBLISH
BEGIN:VEVENT
UID:02a801fe3e9109450fae994593c3a4e1@carerstogether.co.uk
SUMMARY:Great Ayton Walk and Ice Cream
DESCRIPTION:Meet at The Green opposite The Royal Oak Pub for a gentle 3km s
 troll around Great Ayton and enjoy a Suggitt’s Ice Cream on the return. F
 ree parking available close to the meeting point.
LOCATION:The Green\, High Street\, Great Ayton\, TS9 6AA
DTSTAMP:20260420T175441Z
DTSTART:20260630T093000Z
DTEND:20260630T110000Z
END:VEVENT
END:VCALENDAR
