BEGIN:VCALENDAR
VERSION:2.0
PRODID:-//Eventin//Event Calendar//EN
CALSCALE:GREGORIAN
METHOD:PUBLISH
BEGIN:VEVENT
UID:fe99105bf9a3c6e7a1cb214cc4e90bfc@carerstogether.co.uk
SUMMARY:Carers Week Trip to Beamish
DESCRIPTION:Take a journey back in time at Beamish Museum with interactive 
 exhibits\, buildings\, and towns from 1900’s-1950’s. This is a large op
 en-air museum with some uneven surfaces and steep hills\; there are buses a
 nd trams that run a circular route around the museum. Wheelchair and mobili
 ty scooter hire is available (additional cost). If you require any accessib
 ility support including the wheelchair accessible bus (not for general publ
 ic) please let us know upon booking. There are various cafes/pubs/fish and 
 chip shop on site but be aware they can get busy – you are welcome to bri
 ng a picnic.Leaving Beamish Museum approx. 3.30pm.Cost £5 per person payab
 le on the coach.
LOCATION:Majuba Car Park\, Redcar (9.30am) and BBC Tees Building Middlesbro
 ugh (10.00am)
DTSTAMP:20260420T180014Z
DTSTART:20260610T083000Z
DTEND:20260610T160000Z
END:VEVENT
END:VCALENDAR
